BEGIN:VCALENDAR
VERSION:2.0
PRODID:-//ABC Badminton Coupvray - ECPv6.15.20//NONSGML v1.0//EN
CALSCALE:GREGORIAN
METHOD:PUBLISH
X-ORIGINAL-URL:https://www.abcbadmintoncoupvray.fr
X-WR-CALDESC:Évènements pour ABC Badminton Coupvray
REFRESH-INTERVAL;VALUE=DURATION:PT1H
X-Robots-Tag:noindex
X-PUBLISHED-TTL:PT1H
BEGIN:VTIMEZONE
TZID:Europe/Paris
BEGIN:DAYLIGHT
TZOFFSETFROM:+0100
TZOFFSETTO:+0200
TZNAME:CEST
DTSTART:20250330T010000
END:DAYLIGHT
BEGIN:STANDARD
TZOFFSETFROM:+0200
TZOFFSETTO:+0100
TZNAME:CET
DTSTART:20251026T010000
END:STANDARD
BEGIN:DAYLIGHT
TZOFFSETFROM:+0100
TZOFFSETTO:+0200
TZNAME:CEST
DTSTART:20260329T010000
END:DAYLIGHT
BEGIN:STANDARD
TZOFFSETFROM:+0200
TZOFFSETTO:+0100
TZNAME:CET
DTSTART:20261025T010000
END:STANDARD
BEGIN:DAYLIGHT
TZOFFSETFROM:+0100
TZOFFSETTO:+0200
TZNAME:CEST
DTSTART:20270328T010000
END:DAYLIGHT
BEGIN:STANDARD
TZOFFSETFROM:+0200
TZOFFSETTO:+0100
TZNAME:CET
DTSTART:20271031T010000
END:STANDARD
END:VTIMEZONE
BEGIN:VEVENT
DTSTART;TZID=Europe/Paris:20260207T080000
DTEND;TZID=Europe/Paris:20260208T180000
DTSTAMP:20260420T105158
CREATED:20250707T040016Z
LAST-MODIFIED:20251013T074802Z
UID:2064-1770451200-1770573600@www.abcbadmintoncoupvray.fr
SUMMARY:TDJ 3 - 7 et 8 février 2026 - Croissy-Beaubourg
DESCRIPTION:TDJ 3 – 7 et 8 février 2026 – Croissy-Beaubourg
URL:https://www.abcbadmintoncoupvray.fr/evenement/tdj-3-7-et-8-fevrier-2026-croissy-beaubourg/
LOCATION:Terrains de badminton Coupvray\, 75 Rue de Lesches\, Coupvray\, 77700\, France
CATEGORIES:Compétition Jeune
ATTACH;FMTTYPE=image/jpeg:https://www.abcbadmintoncoupvray.fr/wp-content/uploads/2025/02/AdobeStock_510492028_Jeunes-competitions-scaled.jpeg
END:VEVENT
END:VCALENDAR