BEGIN:VCALENDAR
VERSION:2.0
PRODID:-//ABC Badminton Coupvray - ECPv6.15.20//NONSGML v1.0//EN
CALSCALE:GREGORIAN
METHOD:PUBLISH
X-WR-CALNAME:ABC Badminton Coupvray
X-ORIGINAL-URL:https://www.abcbadmintoncoupvray.fr
X-WR-CALDESC:Évènements pour ABC Badminton Coupvray
REFRESH-INTERVAL;VALUE=DURATION:PT1H
X-Robots-Tag:noindex
X-PUBLISHED-TTL:PT1H
BEGIN:VTIMEZONE
TZID:Europe/Paris
BEGIN:DAYLIGHT
TZOFFSETFROM:+0100
TZOFFSETTO:+0200
TZNAME:CEST
DTSTART:20250330T010000
END:DAYLIGHT
BEGIN:STANDARD
TZOFFSETFROM:+0200
TZOFFSETTO:+0100
TZNAME:CET
DTSTART:20251026T010000
END:STANDARD
BEGIN:DAYLIGHT
TZOFFSETFROM:+0100
TZOFFSETTO:+0200
TZNAME:CEST
DTSTART:20260329T010000
END:DAYLIGHT
BEGIN:STANDARD
TZOFFSETFROM:+0200
TZOFFSETTO:+0100
TZNAME:CET
DTSTART:20261025T010000
END:STANDARD
BEGIN:DAYLIGHT
TZOFFSETFROM:+0100
TZOFFSETTO:+0200
TZNAME:CEST
DTSTART:20270328T010000
END:DAYLIGHT
BEGIN:STANDARD
TZOFFSETFROM:+0200
TZOFFSETTO:+0100
TZNAME:CET
DTSTART:20271031T010000
END:STANDARD
END:VTIMEZONE
BEGIN:VEVENT
DTSTART;TZID=Europe/Paris:20260109T200000
DTEND;TZID=Europe/Paris:20260109T230000
DTSTAMP:20260424T160902
CREATED:20251124T094625Z
LAST-MODIFIED:20251124T094625Z
UID:3177-1767988800-1767999600@www.abcbadmintoncoupvray.fr
SUMMARY:Promobad : Claye-Souilly - DOMICILE
DESCRIPTION:Rencontre promobad contre Claye-Souilly à 20h00. \nParc des sports – Gymnase D. Douillet\, 73 rue de Lesches\, 77700 COUVRAY
URL:https://www.abcbadmintoncoupvray.fr/evenement/promobad-claye-souilly-domicile/
CATEGORIES:Promobad
ATTACH;FMTTYPE=image/png:https://www.abcbadmintoncoupvray.fr/wp-content/uploads/2024/12/Rencontre-promoBad-2-ok.png
END:VEVENT
BEGIN:VEVENT
DTSTART;TZID=Europe/Paris:20260110T080000
DTEND;TZID=Europe/Paris:20260111T180000
DTSTAMP:20260424T160902
CREATED:20250707T020057Z
LAST-MODIFIED:20260104T225653Z
UID:2057-1768032000-1768154400@www.abcbadmintoncoupvray.fr
SUMMARY:TDJ 2 - 10 et 11 janvier 2026 - La Ferté Sous Jouarre et Chessy
DESCRIPTION:TDJ 2 – 10 et 11 janvier 2026 – La Ferté Sous Jouarre et Chessy
URL:https://www.abcbadmintoncoupvray.fr/evenement/tdj-2-10-et-11-janvier-2026-gymnase-a-denifir/
LOCATION:Terrains de badminton Coupvray\, 75 Rue de Lesches\, Coupvray\, 77700\, France
CATEGORIES:Compétition Jeune
ATTACH;FMTTYPE=image/jpeg:https://www.abcbadmintoncoupvray.fr/wp-content/uploads/2025/02/AdobeStock_510492028_Jeunes-competitions-scaled.jpeg
END:VEVENT
BEGIN:VEVENT
DTSTART;TZID=Europe/Paris:20260112T194500
DTEND;TZID=Europe/Paris:20260112T230000
DTSTAMP:20260424T160902
CREATED:20251104T083359Z
LAST-MODIFIED:20251104T083359Z
UID:3029-1768247100-1768258800@www.abcbadmintoncoupvray.fr
SUMMARY:Interclub Mixte : Val d'Europe - EXTERIEUR
DESCRIPTION:Rencontre Interclub Mixte contre Val d’Europe à 19h45. \nHalle des Sport Alexis Vastine\, 69 Rue des labours\, 77700 MAGNY-LE-HONGRE
URL:https://www.abcbadmintoncoupvray.fr/evenement/interclub-mixte-val-deurope-exterieur/
CATEGORIES:Compétition Mixte
ATTACH;FMTTYPE=image/png:https://www.abcbadmintoncoupvray.fr/wp-content/uploads/2025/03/tournoi-defi-double-ados-1-ok.png
END:VEVENT
BEGIN:VEVENT
DTSTART;TZID=Europe/Paris:20260114T200000
DTEND;TZID=Europe/Paris:20260114T230000
DTSTAMP:20260424T160902
CREATED:20251103T154817Z
LAST-MODIFIED:20251104T081459Z
UID:2997-1768420800-1768431600@www.abcbadmintoncoupvray.fr
SUMMARY:Interclub Masculin : Sénart - DOMICILE
DESCRIPTION:Rencontre Interclub Masculin contre Sénart à 20h00. \nParc des sports – Gymnase D. Douillet\, 73 rue de Lesches\, 77700 COUVRAY
URL:https://www.abcbadmintoncoupvray.fr/evenement/interclub-masculin-senart-domicile/
CATEGORIES:Compétition Masculine
ATTACH;FMTTYPE=image/png:https://www.abcbadmintoncoupvray.fr/wp-content/uploads/2024/11/Interclub1-OK.png
END:VEVENT
BEGIN:VEVENT
DTSTART;TZID=Europe/Paris:20260116T200000
DTEND;TZID=Europe/Paris:20260116T230000
DTSTAMP:20260424T160902
CREATED:20251201T083049Z
LAST-MODIFIED:20251201T083049Z
UID:3276-1768593600-1768604400@www.abcbadmintoncoupvray.fr
SUMMARY:Promobad : Bussy-Saint-Georges - DOMICILE
DESCRIPTION:Rencontre promobad contre Bussy-Saint-Georges à 20h00. \nParc des sports – Gymnase D. Douillet\, 73 rue de Lesches\, 77700 COUVRAY
URL:https://www.abcbadmintoncoupvray.fr/evenement/promobad-bussy-saint-georges-domicile/
CATEGORIES:Promobad
ATTACH;FMTTYPE=image/png:https://www.abcbadmintoncoupvray.fr/wp-content/uploads/2024/12/Rencontre-promoBad-2-ok.png
END:VEVENT
BEGIN:VEVENT
DTSTART;TZID=Europe/Paris:20260121T200000
DTEND;TZID=Europe/Paris:20260121T230000
DTSTAMP:20260424T160902
CREATED:20251104T082506Z
LAST-MODIFIED:20251104T083006Z
UID:3016-1769025600-1769036400@www.abcbadmintoncoupvray.fr
SUMMARY:Interclub Mixte : Mouroux - DOMICILE
DESCRIPTION:Rencontre Interclub Mixte contre Mouroux à 20h00. \nParc des sports – Gymnase D. Douillet\, 73 rue de Lesches\, 77700 COUVRAY
URL:https://www.abcbadmintoncoupvray.fr/evenement/interclub-mixte-mouroux-domicile/
CATEGORIES:Compétition Mixte
ATTACH;FMTTYPE=image/png:https://www.abcbadmintoncoupvray.fr/wp-content/uploads/2025/03/tournoi-defi-double-ados-1-ok.png
END:VEVENT
BEGIN:VEVENT
DTSTART;TZID=Europe/Paris:20260123T194500
DTEND;TZID=Europe/Paris:20260123T230000
DTSTAMP:20260424T160902
CREATED:20251103T154948Z
LAST-MODIFIED:20251104T081535Z
UID:2999-1769197500-1769209200@www.abcbadmintoncoupvray.fr
SUMMARY:Interclub Masculin : Croissy-Beaubourg - EXTERIEUR
DESCRIPTION:Rencontre Interclub Masculin contre Croissy-Beaubourg à 19h45. \nSalle Polyvalente de l’Orangerie\, Allée du bois\, 77183 CROISSY BEAUBOURG
URL:https://www.abcbadmintoncoupvray.fr/evenement/interclub-masculin-croissy-beaubourg-exterieur/
CATEGORIES:Compétition Masculine
ATTACH;FMTTYPE=image/png:https://www.abcbadmintoncoupvray.fr/wp-content/uploads/2024/11/Interclub1-OK.png
END:VEVENT
BEGIN:VEVENT
DTSTART;TZID=Europe/Paris:20260124T180000
DTEND;TZID=Europe/Paris:20260125T040000
DTSTAMP:20260424T160902
CREATED:20250707T030051Z
LAST-MODIFIED:20251208T092006Z
UID:1764-1769277600-1769313600@www.abcbadmintoncoupvray.fr
SUMMARY:4ème Blackminton 2026 à partir de 18h
DESCRIPTION:Nous faisons appel à un prestataire\, vous pouvez cliquer sur ici  pour avoir un aperçu de la soirée.\nPour vous inscrire : cliquer ici \nConcernant le déroulement de la soirée\, nous proposons trois créneaux différents :\n-1) De 18h00 à 19h00 : réservé aux enfants de 5 à 11 ans (licencié dans le club de Coupvray)\, accompagné d’un ami(e) ou d’un parent s’ils le souhaitent. L’entrée est offerte par le club. \n-2) De 19h00 à 20h30 : réservé aux ados de 12 à 17 ans (licencié dans le club de Coupvray)\, accompagné d’un ami(e) ou d’un parent s’ils le souhaitent. L’entrée est offerte par le club. \n-3) A partir de 20h30 : réservé aux licenciés ou non licenciés lycéens et adultes. Le prix de la soirée est fixé à 10€ par personne. \nPour vous préparer comme il se doit\, vous pouvez arriver une bonne demi-heure en avance.\nNous tiendrons une buvette avec restauration.\nLes modalités d’inscription feront l’objet d’un message ultérieur.\nNous recherchons d’ores et déjà des volontaires pour nous aider à organiser la soirée (buvette\, maquillage\, etc). Si vous êtes disponibles\, merci de vous manifester auprès des membres du bureau ou par mail. \nLe bureau
URL:https://www.abcbadmintoncoupvray.fr/evenement/blackminton-a-partir-de-19h/
LOCATION:Terrains de badminton Coupvray\, 75 Rue de Lesches\, Coupvray\, 77700\, France
CATEGORIES:Général
ATTACH;FMTTYPE=image/jpeg:https://www.abcbadmintoncoupvray.fr/wp-content/uploads/2024/12/IMG_8826-scaled.jpeg
END:VEVENT
BEGIN:VEVENT
DTSTART;TZID=Europe/Paris:20260128T200000
DTEND;TZID=Europe/Paris:20260128T230000
DTSTAMP:20260424T160902
CREATED:20251104T080236Z
LAST-MODIFIED:20251104T081631Z
UID:3001-1769630400-1769641200@www.abcbadmintoncoupvray.fr
SUMMARY:Interclub Masculin : Claye-Souilly - DOMICILE
DESCRIPTION:Rencontre Interclub Masculin contre Claye-Souilly à 20h00. \nParc des sports – Gymnase D. Douillet\, 73 rue de Lesches\, 77700 COUVRAY
URL:https://www.abcbadmintoncoupvray.fr/evenement/interclub-masculin-claye-souilly-domicile/
CATEGORIES:Compétition Masculine
ATTACH;FMTTYPE=image/png:https://www.abcbadmintoncoupvray.fr/wp-content/uploads/2024/11/Interclub1-OK.png
END:VEVENT
BEGIN:VEVENT
DTSTART;TZID=Europe/Paris:20260128T200000
DTEND;TZID=Europe/Paris:20260128T230000
DTSTAMP:20260424T160902
CREATED:20251104T083823Z
LAST-MODIFIED:20251104T083823Z
UID:3030-1769630400-1769641200@www.abcbadmintoncoupvray.fr
SUMMARY:Interclub Mixte : La Ferté sous Jouarre - EXTERIEUR
DESCRIPTION:Rencontre Interclub Mixte contre La Ferté sous Jouarre à 20h00. \nGymnase Les Picherettes\, 66 rue du lion\, 77260 LA FERTE SOUS JOUARRE
URL:https://www.abcbadmintoncoupvray.fr/evenement/interclub-mixte-la-ferte-sous-jouarre-exterieur/
CATEGORIES:Compétition Mixte
ATTACH;FMTTYPE=image/png:https://www.abcbadmintoncoupvray.fr/wp-content/uploads/2025/03/tournoi-defi-double-ados-1-ok.png
END:VEVENT
BEGIN:VEVENT
DTSTART;TZID=Europe/Paris:20260129T200000
DTEND;TZID=Europe/Paris:20260129T230000
DTSTAMP:20260424T160902
CREATED:20260203T073102Z
LAST-MODIFIED:20260203T073102Z
UID:3352-1769716800-1769727600@www.abcbadmintoncoupvray.fr
SUMMARY:Promobad : Vaujours - EXTERIEUR
DESCRIPTION:Rencontre promobad contre Vaujours. \nà Vaujours
URL:https://www.abcbadmintoncoupvray.fr/evenement/promobad-vaujours-exterieur/
CATEGORIES:Promobad
ATTACH;FMTTYPE=image/png:https://www.abcbadmintoncoupvray.fr/wp-content/uploads/2024/12/Rencontre-promoBad-2-ok.png
END:VEVENT
END:VCALENDAR